BEGIN:VCALENDAR
VERSION:2.0
PRODID:-//Desperta.cat - ECPv6.15.17.1//NONSGML v1.0//EN
CALSCALE:GREGORIAN
METHOD:PUBLISH
X-ORIGINAL-URL:https://www.desperta.cat
X-WR-CALDESC:Esdeveniments per Desperta.cat
REFRESH-INTERVAL;VALUE=DURATION:PT1H
X-Robots-Tag:noindex
X-PUBLISHED-TTL:PT1H
BEGIN:VTIMEZONE
TZID:Europe/Paris
BEGIN:DAYLIGHT
TZOFFSETFROM:+0100
TZOFFSETTO:+0200
TZNAME:CEST
DTSTART:20240331T010000
END:DAYLIGHT
BEGIN:STANDARD
TZOFFSETFROM:+0200
TZOFFSETTO:+0100
TZNAME:CET
DTSTART:20241027T010000
END:STANDARD
BEGIN:DAYLIGHT
TZOFFSETFROM:+0100
TZOFFSETTO:+0200
TZNAME:CEST
DTSTART:20250330T010000
END:DAYLIGHT
BEGIN:STANDARD
TZOFFSETFROM:+0200
TZOFFSETTO:+0100
TZNAME:CET
DTSTART:20251026T010000
END:STANDARD
BEGIN:DAYLIGHT
TZOFFSETFROM:+0100
TZOFFSETTO:+0200
TZNAME:CEST
DTSTART:20260329T010000
END:DAYLIGHT
BEGIN:STANDARD
TZOFFSETFROM:+0200
TZOFFSETTO:+0100
TZNAME:CET
DTSTART:20261025T010000
END:STANDARD
BEGIN:DAYLIGHT
TZOFFSETFROM:+0100
TZOFFSETTO:+0200
TZNAME:CEST
DTSTART:20270328T010000
END:DAYLIGHT
BEGIN:STANDARD
TZOFFSETFROM:+0200
TZOFFSETTO:+0100
TZNAME:CET
DTSTART:20271031T010000
END:STANDARD
END:VTIMEZONE
BEGIN:VEVENT
DTSTART;VALUE=DATE:20251227
DTEND;VALUE=DATE:20260103
DTSTAMP:20260423T123425
CREATED:20251006T133233Z
LAST-MODIFIED:20251006T133313Z
UID:1375-1766793600-1767398399@www.desperta.cat
SUMMARY:Trobada europea de Taizé a Paris
DESCRIPTION:Ocasió d’acabar l’any a París en la trobada internacional de Taize de cap d’any. El transport és en autocar. Allà es dorm en cases d’acollida i participa d’uns dies de visita\, pregària i conèixer gent de diferents països.
URL:https://www.desperta.cat/activitat/trobada-europea-de-taize-a-paris/
CATEGORIES:Trobada internacional
ATTACH;FMTTYPE=image/jpeg:https://www.desperta.cat/wp-content/uploads/2025/10/Taize20252026.jpg
ORGANIZER;CN="Delegaci%C3%B3 de Joves del Bisbat de Vic":MAILTO:joves@bisbatvic.org
END:VEVENT
BEGIN:VEVENT
DTSTART;VALUE=DATE:20260110
DTEND;VALUE=DATE:20260111
DTSTAMP:20260423T123425
CREATED:20251006T120418Z
LAST-MODIFIED:20251006T120418Z
UID:1352-1768003200-1768089599@www.desperta.cat
SUMMARY:"Benaurats"
DESCRIPTION:Una activitat mensual on joves de +18 anys es troben en una jornada de formació\, pregària i servei en diferents localitzacions del territori del bisbat.
URL:https://www.desperta.cat/activitat/benaurats-11/
CATEGORIES:Benaurats
ATTACH;FMTTYPE=image/jpeg:https://www.desperta.cat/wp-content/uploads/2025/10/Benaurats_25_26.jpg
ORGANIZER;CN="Delegaci%C3%B3 de Joves del Bisbat de Vic":MAILTO:joves@bisbatvic.org
END:VEVENT
END:VCALENDAR